BEGIN:VCALENDAR
VERSION:2.0
PRODID:-//eventon.com NONSGML v1.0//EN
BEGIN:VEVENT
UID:69e752e08a22d
DTSTAMP:20260421T123512
DTSTART:20190825T100000Z
DTEND:20190825T113000Z
LOCATION:
SUMMARY:Muziekvereniging Scheldegalm\,  Hansweert
DESCRIPTION: Muziekvereniging Scheldegalm\,  Hansweert
END:VEVENT
END:VCALENDAR